BEGIN:VCALENDAR
VERSION:2.0
PRODID:-//Ruderclub Wolfgangsee - ECPv5.10.0//NONSGML v1.0//EN
CALSCALE:GREGORIAN
METHOD:PUBLISH
X-WR-CALNAME:Ruderclub Wolfgangsee
X-ORIGINAL-URL:http://www.ruderclub-wolfgangsee.at
X-WR-CALDESC:Veranstaltungen für Ruderclub Wolfgangsee
BEGIN:VTIMEZONE
TZID:Europe/Vienna
BEGIN:DAYLIGHT
TZOFFSETFROM:+0100
TZOFFSETTO:+0200
TZNAME:CEST
DTSTART:20190331T010000
END:DAYLIGHT
BEGIN:STANDARD
TZOFFSETFROM:+0200
TZOFFSETTO:+0100
TZNAME:CET
DTSTART:20191027T010000
END:STANDARD
END:VTIMEZONE
BEGIN:VEVENT
DTSTART;VALUE=DATE:20190814
DTEND;VALUE=DATE:20190815
DTSTAMP:20260420T143118
CREATED:20190717T074746Z
LAST-MODIFIED:20190717T074746Z
UID:2746-1565740800-1565827199@www.ruderclub-wolfgangsee.at
SUMMARY:SOMMERFEST 14.08.2019 ab 19.00 Uhr
DESCRIPTION:
URL:http://www.ruderclub-wolfgangsee.at/event/sommerfest-14-08-2019-ab-19-00-uhr/
LOCATION:Clubhaus\, Mondseestraße 14\, St. Gilgen\, Österreich
END:VEVENT
END:VCALENDAR