BEGIN:VCALENDAR
VERSION:2.0
PRODID:-//Ruderclub Wolfgangsee - ECPv5.10.0//NONSGML v1.0//EN
CALSCALE:GREGORIAN
METHOD:PUBLISH
X-WR-CALNAME:Ruderclub Wolfgangsee
X-ORIGINAL-URL:http://www.ruderclub-wolfgangsee.at
X-WR-CALDESC:Veranstaltungen für Ruderclub Wolfgangsee
BEGIN:VTIMEZONE
TZID:Europe/Vienna
BEGIN:DAYLIGHT
TZOFFSETFROM:+0100
TZOFFSETTO:+0200
TZNAME:CEST
DTSTART:20250330T010000
END:DAYLIGHT
BEGIN:STANDARD
TZOFFSETFROM:+0200
TZOFFSETTO:+0100
TZNAME:CET
DTSTART:20251026T010000
END:STANDARD
END:VTIMEZONE
BEGIN:VEVENT
DTSTART;TZID=Europe/Vienna:20250927T080000
DTEND;TZID=Europe/Vienna:20250927T170000
DTSTAMP:20260420T143246
CREATED:20250212T095847Z
LAST-MODIFIED:20250212T095847Z
UID:3301-1758960000-1758992400@www.ruderclub-wolfgangsee.at
SUMMARY:LM Salzburg
DESCRIPTION:
URL:http://www.ruderclub-wolfgangsee.at/event/lm-salzburg/
END:VEVENT
END:VCALENDAR